BEGIN:VCALENDAR
VERSION:2.0
PRODID:Events Booking
BEGIN:VEVENT
UID:69e88d1b6fdf6
SUMMARY:Business Customer Gateway - A Deep Dive 
DESCRIPTION:4/2 Business Customer Gateway- Deep Dive
  Bring your laptop a
 nd any burning questions you may have. Here’s your chance for one-on-one
  assistance!
LOCATION:126 S State St\, Westerville\, OH 43081\, USA
DTSTART:20260402T190000Z
DTEND:20260402T210000Z
DTSTAMP:20260220T020427Z
ORGANIZER;CN=Central Ohio Postal Customer Council:MAILTO:registration@copcc
 .com
GEO:40.123006;-82.930049
X-APPLE-STRUCTURED-LOCATION;VALUE=URI;X-ADDRESS=126 S State St\, Westervill
 e\, OH 43081\, USA;X-APPLE-RADIUS=72;X-TITLE=Westerville Public Library:40
 .123006;-82.930049
END:VEVENT
END:VCALENDAR